BEGIN:VCALENDAR
VERSION:2.0
PRODID:-//5.9.137.141//NONSGML kigkonsult.se iCalcreator 2.20//
CALSCALE:GREGORIAN
METHOD:PUBLISH
X-WR-TIMEZONE:UTC
BEGIN:VEVENT
UID:event413@Lichteurythmie Ensemble
DTSTAMP:20260422T141554Z
CATEGORIES:Öffentliche Aufführung 
DESCRIPTION:Fernöstlich - köstlich - westlich\nKategorie: Öffentliche Auffü
 hrung \nICS-Link: https://www.eurythmie.com/index.php?option=com_jem&view=
 event&id=413:fernoestlich-koestlich-westlich\n
DTSTART:20260503T150000Z
DTEND:20260503T160000Z
LOCATION:Walkringen /Rüttihubelbad\,Konzertsaal Altersheim\,3512 Walkringen
SUMMARY:Fernöstlich - köstlich - westlich
URL:https://www.eurythmie.com/index.php?option=com_jem&view=event&id=413:fe
 rnoestlich-koestlich-westlich
END:VEVENT
END:VCALENDAR
